BEGIN:VCALENDAR
VERSION:2.0
PRODID:-//Tri-City Photography Club - ECPv6.15.18//NONSGML v1.0//EN
CALSCALE:GREGORIAN
METHOD:PUBLISH
X-WR-CALNAME:Tri-City Photography Club
X-ORIGINAL-URL:https://www.tricityphotoclub.ca
X-WR-CALDESC:Events for Tri-City Photography Club
REFRESH-INTERVAL;VALUE=DURATION:PT1H
X-Robots-Tag:noindex
X-PUBLISHED-TTL:PT1H
BEGIN:VTIMEZONE
TZID:America/Vancouver
BEGIN:DAYLIGHT
TZOFFSETFROM:-0800
TZOFFSETTO:-0700
TZNAME:PDT
DTSTART:20220313T100000
END:DAYLIGHT
BEGIN:STANDARD
TZOFFSETFROM:-0700
TZOFFSETTO:-0800
TZNAME:PST
DTSTART:20221106T090000
END:STANDARD
BEGIN:DAYLIGHT
TZOFFSETFROM:-0800
TZOFFSETTO:-0700
TZNAME:PDT
DTSTART:20230312T100000
END:DAYLIGHT
BEGIN:STANDARD
TZOFFSETFROM:-0700
TZOFFSETTO:-0800
TZNAME:PST
DTSTART:20231105T090000
END:STANDARD
BEGIN:DAYLIGHT
TZOFFSETFROM:-0800
TZOFFSETTO:-0700
TZNAME:PDT
DTSTART:20240310T100000
END:DAYLIGHT
BEGIN:STANDARD
TZOFFSETFROM:-0700
TZOFFSETTO:-0800
TZNAME:PST
DTSTART:20241103T090000
END:STANDARD
END:VTIMEZONE
BEGIN:VEVENT
DTSTART;VALUE=DATE:20231115
DTEND;VALUE=DATE:20231116
DTSTAMP:20260423T222014
CREATED:20230912T010301Z
LAST-MODIFIED:20231007T184400Z
UID:5432-1700006400-1700092799@www.tricityphotoclub.ca
SUMMARY:Deadline for Lions Gate Celebration of Nature Submissions
DESCRIPTION:This is the Deadline for the TCPC to submit the final 6 imaged to the Lions Gate Camera Club\, Celebration of Nature 2023 Competition \nSteve will take care of the submission process
URL:https://www.tricityphotoclub.ca/event/deadline-for-lions-gate-celebration-of-nature-submissions/
END:VEVENT
END:VCALENDAR