BEGIN:VCALENDAR
VERSION:2.0
PRODID:-//Tri-City Photography Club - ECPv6.15.18//NONSGML v1.0//EN
CALSCALE:GREGORIAN
METHOD:PUBLISH
X-WR-CALNAME:Tri-City Photography Club
X-ORIGINAL-URL:https://www.tricityphotoclub.ca
X-WR-CALDESC:Events for Tri-City Photography Club
REFRESH-INTERVAL;VALUE=DURATION:PT1H
X-Robots-Tag:noindex
X-PUBLISHED-TTL:PT1H
BEGIN:VTIMEZONE
TZID:America/Vancouver
BEGIN:DAYLIGHT
TZOFFSETFROM:-0800
TZOFFSETTO:-0700
TZNAME:PDT
DTSTART:20220313T100000
END:DAYLIGHT
BEGIN:STANDARD
TZOFFSETFROM:-0700
TZOFFSETTO:-0800
TZNAME:PST
DTSTART:20221106T090000
END:STANDARD
BEGIN:DAYLIGHT
TZOFFSETFROM:-0800
TZOFFSETTO:-0700
TZNAME:PDT
DTSTART:20230312T100000
END:DAYLIGHT
BEGIN:STANDARD
TZOFFSETFROM:-0700
TZOFFSETTO:-0800
TZNAME:PST
DTSTART:20231105T090000
END:STANDARD
BEGIN:DAYLIGHT
TZOFFSETFROM:-0800
TZOFFSETTO:-0700
TZNAME:PDT
DTSTART:20240310T100000
END:DAYLIGHT
BEGIN:STANDARD
TZOFFSETFROM:-0700
TZOFFSETTO:-0800
TZNAME:PST
DTSTART:20241103T090000
END:STANDARD
END:VTIMEZONE
BEGIN:VEVENT
DTSTART;TZID=America/Vancouver:20231010T190000
DTEND;TZID=America/Vancouver:20231010T210000
DTSTAMP:20260422T150104
CREATED:20230911T174126Z
LAST-MODIFIED:20231007T190319Z
UID:5388-1696964400-1696971600@www.tricityphotoclub.ca
SUMMARY:In Person Meeting - Food Photography
DESCRIPTION:Catherine & Kristina – Food Photography
URL:https://www.tricityphotoclub.ca/event/in-person-meeting-2/
LOCATION:Montgomery Centre\, 380 Montgomery St.\, Coquitlam\, BC\, Canada
END:VEVENT
BEGIN:VEVENT
DTSTART;TZID=America/Vancouver:20231024T190000
DTEND;TZID=America/Vancouver:20231024T210000
DTSTAMP:20260422T150104
CREATED:20230911T174247Z
LAST-MODIFIED:20231007T190407Z
UID:5390-1698174000-1698181200@www.tricityphotoclub.ca
SUMMARY:ZOOM Meeting - Anthony Bucci
DESCRIPTION:Anthony Bucci.pdf \nSea Life presentation by Anthony Bucci \nhttps://www.abucciphotography.com/ \nVoting for Lions Gate Competition \n  \nHOSTED BY TRI CITY PHOTOGRAPHY\, BC VIA ZOOM OCTOBER 24\, 2023\,\n DOORS OPEN @6:30PM PRESENTATION @7:00PM \nREGISTER AT INFO@TRICITYPHOTOCLUB.CA / \n$10 PAYABLE TO treasurer@tricityphotoclub.ca\nLimited Capacity of 50\n\n\nAnthony is a 45 year old professional wildlife photographer who grew up on the outskirts of Vancouver BC.  He moved to Vancouver Island 5 years ago and is the owner and operator of Bucci Tours. Anthony has won multiple photography awards through CAPA Canada and most recently represented Canada in the 4 nations photography competition. He has been published in many magazines such as National Geographic\, Cover of Canadian Geographic magazine and many more. He has guided for 9 years starting out with birds of prey tours. Now he does marine wildlife tours to Northern Pygmy Owl tours. www.abucciphotography.com Photography Tours & Classes \nPRESENTATION: \nMy presentation is 3 slideshows built into one with pauses in between \n• Introduction\, About me and what I do and where \n• Marine Wildlife/Tour slideshow \n• Brief discussion on what photography classes I offer \n• Questions \n\n\nShort Break \n\n\nPersonal Photography slideshows – Island Life \n• Short Island Life Astrophotography \n• 4 year Journey Island Life Coastal Sea Wolves \n• Questions \nThe three short presentation slideshows all tie in what I do with marine life\, Astrophotography is usually in areas I camp waiting for daylight for marine life such as bears and wolves\, The 4 year journey is what it took for me to get the once in a lifetime images I got. \nLimited Capacity- Register: info@tricityphotography.com  Pay treasurer@tricityphotography.com \n\n  \n 
URL:https://www.tricityphotoclub.ca/event/zoom-meeting-2/
LOCATION:Zoom
END:VEVENT
END:VCALENDAR