BEGIN:VCALENDAR
VERSION:2.0
PRODID:-//Tri-City Photography Club - ECPv6.15.18//NONSGML v1.0//EN
CALSCALE:GREGORIAN
METHOD:PUBLISH
X-ORIGINAL-URL:https://www.tricityphotoclub.ca
X-WR-CALDESC:Events for Tri-City Photography Club
REFRESH-INTERVAL;VALUE=DURATION:PT1H
X-Robots-Tag:noindex
X-PUBLISHED-TTL:PT1H
BEGIN:VTIMEZONE
TZID:America/Vancouver
BEGIN:DAYLIGHT
TZOFFSETFROM:-0800
TZOFFSETTO:-0700
TZNAME:PDT
DTSTART:20220313T100000
END:DAYLIGHT
BEGIN:STANDARD
TZOFFSETFROM:-0700
TZOFFSETTO:-0800
TZNAME:PST
DTSTART:20221106T090000
END:STANDARD
BEGIN:DAYLIGHT
TZOFFSETFROM:-0800
TZOFFSETTO:-0700
TZNAME:PDT
DTSTART:20230312T100000
END:DAYLIGHT
BEGIN:STANDARD
TZOFFSETFROM:-0700
TZOFFSETTO:-0800
TZNAME:PST
DTSTART:20231105T090000
END:STANDARD
BEGIN:DAYLIGHT
TZOFFSETFROM:-0800
TZOFFSETTO:-0700
TZNAME:PDT
DTSTART:20240310T100000
END:DAYLIGHT
BEGIN:STANDARD
TZOFFSETFROM:-0700
TZOFFSETTO:-0800
TZNAME:PST
DTSTART:20241103T090000
END:STANDARD
END:VTIMEZONE
BEGIN:VEVENT
DTSTART;TZID=America/Vancouver:20231128T190000
DTEND;TZID=America/Vancouver:20231128T210000
DTSTAMP:20260422T130945
CREATED:20230911T174725Z
LAST-MODIFIED:20231110T003920Z
UID:5396-1701198000-1701205200@www.tricityphotoclub.ca
SUMMARY:Zoom Meeting - Mark Hemmings - Ethical use of AI in Photography
DESCRIPTION:ETHICAL USE OF AI IN PHOTOGRAPHY presentation by Mark Hemmings \nwww.MarkHemmings.com \nwww.instagram.com/markhemmings \n 
URL:https://www.tricityphotoclub.ca/event/zoom-meeting-3/
LOCATION:Zoom
END:VEVENT
END:VCALENDAR